BEGIN:VCALENDAR
VERSION:2.0
PRODID:spatie/icalendar-generator
DESCRIPTION:Events from Dial Radio Club
X-WR-CALDESC:Events from Dial Radio Club
REFRESH-INTERVAL;VALUE=DURATION:PT1440M
X-PUBLISHED-TTL:PT1440M
BEGIN:VTIMEZONE
TZID:America/New_York
BEGIN:DAYLIGHT
DTSTART:20260308T020000Z
TZOFFSETFROM:-0500
TZOFFSETTO:-0400
END:DAYLIGHT
BEGIN:STANDARD
DTSTART:20261101T020000Z
TZOFFSETFROM:-0400
TZOFFSETTO:-0500
END:STANDARD
END:VTIMEZONE
BEGIN:VTIMEZONE
TZID:UTC
BEGIN:STANDARD
DTSTART:20250727T134023Z
TZOFFSETFROM:+0000
TZOFFSETTO:+0000
END:STANDARD
END:VTIMEZONE
BEGIN:VEVENT
UID:440-2
DTSTAMP:20260423T134023Z
SUMMARY:DIAL Dinner / Meeting
LOCATION:Broken Barrel Bar &amp;amp\; Grill 2200 Central Ave  Middletown OH 450
 44
ORGANIZER;CN=Tim Murphy:MAILTO:WA8YXY@gmail.com
RRULE:FREQ=MONTHLY;BYDAY=3MO;UNTIL=20301118T000000Z
DTSTART;TZID=America/New_York:20260817T173000
DTEND;TZID=America/New_York:20260817T200000
X-ALT-DESC;FMTTYPE=TEXT/HTML:Meeting Location: Broken Barrel Bar &amp;amp\; Gri
 ll\, 2200 Central Ave\, Middletown\, OH 45044 Broken Barrel Bar &amp;amp\; Gri
 ll Website There is ample parking on the east side of the building and on 
 the street. Please arrive AFTER 5:30 and tell the host/hostess that you ar
 e with the radio club.  We will be to the left\,&amp;hellip\;
CATEGORIES:General Meeting
URL;VALUE=URI:https://dialradioclub.org/mc-events/dial-dinner-meeting/?mc_i
 d=440
METHOD:PUBLISH
END:VEVENT
END:VCALENDAR