BEGIN:VCALENDAR
VERSION:2.0
PRODID:spatie/icalendar-generator
DESCRIPTION:Events from Dial Radio Club
X-WR-CALDESC:Events from Dial Radio Club
REFRESH-INTERVAL;VALUE=DURATION:PT1440M
X-PUBLISHED-TTL:PT1440M
BEGIN:VTIMEZONE
TZID:America/New_York
BEGIN:DAYLIGHT
DTSTART:20250309T020000Z
TZOFFSETFROM:-0500
TZOFFSETTO:-0400
END:DAYLIGHT
BEGIN:STANDARD
DTSTART:20251102T020000Z
TZOFFSETFROM:-0400
TZOFFSETTO:-0500
END:STANDARD
BEGIN:DAYLIGHT
DTSTART:20260308T020000Z
TZOFFSETFROM:-0500
TZOFFSETTO:-0400
END:DAYLIGHT
END:VTIMEZONE
BEGIN:VTIMEZONE
TZID:UTC
BEGIN:STANDARD
DTSTART:20250727T163547Z
TZOFFSETFROM:+0000
TZOFFSETTO:+0000
END:STANDARD
END:VTIMEZONE
BEGIN:VEVENT
UID:491-5
DTSTAMP:20260423T163547Z
SUMMARY:License Exams
LOCATION:St. John XXIII Elementary School 3806 Manchester Rd  Middletown OH
  45042
ORGANIZER;CN=Tim Murphy:MAILTO:WA8YXY@gmail.com
DTSTART;TZID=America/New_York:20251203T180000
DTEND;TZID=America/New_York:20251203T190000
X-ALT-DESC;FMTTYPE=TEXT/HTML:St. John XXIII Elementary School\, 3806 Manche
 ster Rd\, Middletown\, OH 45042 Amateur Radio License Examinations by Dial
  Radio Club and Butler County Amateur Radio Association. Examination sign-
 in starts at 6:00 pm. Exam registration 24 hours prior to the session is n
 ot required but is STRONGLY suggested. See the Dial Radio Club Exams webpa
 ge for more&amp;hellip\;
CATEGORIES:Examination Session
URL;VALUE=URI:https://dialradioclub.org/mc-events/license-exams/
METHOD:PUBLISH
END:VEVENT
END:VCALENDAR