BEGIN:VCALENDAR
VERSION:2.0
PRODID:spatie/icalendar-generator
DESCRIPTION:Events from Dial Radio Club
X-WR-CALDESC:Events from Dial Radio Club
REFRESH-INTERVAL;VALUE=DURATION:PT1440M
X-PUBLISHED-TTL:PT1440M
BEGIN:VTIMEZONE
TZID:America/New_York
BEGIN:STANDARD
DTSTART:20251102T020000Z
TZOFFSETFROM:-0400
TZOFFSETTO:-0500
END:STANDARD
BEGIN:DAYLIGHT
DTSTART:20260308T020000Z
TZOFFSETFROM:-0500
TZOFFSETTO:-0400
END:DAYLIGHT
END:VTIMEZONE
BEGIN:VTIMEZONE
TZID:UTC
BEGIN:STANDARD
DTSTART:20250727T132929Z
TZOFFSETFROM:+0000
TZOFFSETTO:+0000
END:STANDARD
END:VTIMEZONE
BEGIN:VEVENT
UID:496-9
DTSTAMP:20260423T132929Z
SUMMARY:License Exams
LOCATION:St. John XXIII Elementary School 3806 Manchester Rd  Middletown OH
  45042
ORGANIZER;CN=admin:MAILTO:admin@dialradioclub.org
DTSTART;TZID=America/New_York:20260429T180000
DTEND;TZID=America/New_York:20260429T210000
X-ALT-DESC;FMTTYPE=TEXT/HTML:Amateur Radio License Examinations by Dial Rad
 io Club and Butler County Amateur Radio Association. See bulletin for deta
 ils: Exam Bulletin Examination sign-in starts at 6:00 pm. Exam registratio
 n 24 hours prior to the session is not required but is STRONGLY suggested.
  See the Dial Radio Club Exams webpage for more details.
CATEGORIES:Examination Session
URL;VALUE=URI:https://dialradioclub.org/mc-events/license-exams-5/
METHOD:PUBLISH
END:VEVENT
END:VCALENDAR